BEGIN:VCALENDAR
VERSION:2.0
PRODID:-//Integrity Taekwon-Do - ECPv6.15.20//NONSGML v1.0//EN
CALSCALE:GREGORIAN
METHOD:PUBLISH
X-WR-CALNAME:Integrity Taekwon-Do
X-ORIGINAL-URL:https://www.integritytaekwondo.com.au
X-WR-CALDESC:Events for Integrity Taekwon-Do
REFRESH-INTERVAL;VALUE=DURATION:PT1H
X-Robots-Tag:noindex
X-PUBLISHED-TTL:PT1H
BEGIN:VTIMEZONE
TZID:UTC
BEGIN:STANDARD
TZOFFSETFROM:+0000
TZOFFSETTO:+0000
TZNAME:UTC
DTSTART:20230101T000000
END:STANDARD
END:VTIMEZONE
BEGIN:VEVENT
DTSTART;TZID=UTC:20241116T130000
DTEND;TZID=UTC:20241116T150000
DTSTAMP:20260423T150413
CREATED:20240416T095731Z
LAST-MODIFIED:20240416T095931Z
UID:4607-1731762000-1731769200@www.integritytaekwondo.com.au
SUMMARY:Spring Grading
DESCRIPTION:
URL:https://www.integritytaekwondo.com.au/event/spring-grading/
LOCATION:Telopea Park School\, Telopea Park School\, New South Wales Cres\, Barton\, ACT\, 2600\, Australia
END:VEVENT
BEGIN:VEVENT
DTSTART;TZID=UTC:20240914T181500
DTEND;TZID=UTC:20240914T193000
DTSTAMP:20260423T150413
CREATED:20240416T095904Z
LAST-MODIFIED:20240416T095904Z
UID:4609-1726337700-1726342200@www.integritytaekwondo.com.au
SUMMARY:Black Belt Training
DESCRIPTION:
URL:https://www.integritytaekwondo.com.au/event/black-belt-training/
LOCATION:Yarralumla Dojang\, Loftus Street\, Yarralumla\, ACT\, 2600\, Australia
END:VEVENT
BEGIN:VEVENT
DTSTART;TZID=UTC:20240904T061500
DTEND;TZID=UTC:20240904T193000
DTSTAMP:20260423T150413
CREATED:20240416T100148Z
LAST-MODIFIED:20240416T100148Z
UID:4613-1725430500-1725478200@www.integritytaekwondo.com.au
SUMMARY:Destruction Night
DESCRIPTION:
URL:https://www.integritytaekwondo.com.au/event/destruction-night/
LOCATION:Telopea Park School\, Telopea Park School\, New South Wales Cres\, Barton\, ACT\, 2600\, Australia
END:VEVENT
BEGIN:VEVENT
DTSTART;TZID=UTC:20240817T130000
DTEND;TZID=UTC:20240817T150000
DTSTAMP:20260423T150413
CREATED:20240416T095646Z
LAST-MODIFIED:20240416T095949Z
UID:4605-1723899600-1723906800@www.integritytaekwondo.com.au
SUMMARY:Winter Grading
DESCRIPTION:
URL:https://www.integritytaekwondo.com.au/event/winter-grading/
LOCATION:Telopea Park School\, Telopea Park School\, New South Wales Cres\, Barton\, ACT\, 2600\, Australia
END:VEVENT
BEGIN:VEVENT
DTSTART;TZID=UTC:20240518T130000
DTEND;TZID=UTC:20240518T150000
DTSTAMP:20260423T150413
CREATED:20240416T095538Z
LAST-MODIFIED:20240416T100043Z
UID:4603-1716037200-1716044400@www.integritytaekwondo.com.au
SUMMARY:Autumn Grading
DESCRIPTION:
URL:https://www.integritytaekwondo.com.au/event/autumn-grading/
LOCATION:Telopea Park School\, Telopea Park School\, New South Wales Cres\, Barton\, ACT\, 2600\, Australia
END:VEVENT
END:VCALENDAR